BEGIN:VCALENDAR
VERSION:2.0
PRODID:-// - ECPv6.15.13//NONSGML v1.0//EN
CALSCALE:GREGORIAN
METHOD:PUBLISH
X-ORIGINAL-URL:https://blessingsonyourday.com
X-WR-CALDESC:Events for 
REFRESH-INTERVAL;VALUE=DURATION:PT1H
X-Robots-Tag:noindex
X-PUBLISHED-TTL:PT1H
BEGIN:VTIMEZONE
TZID:America/New_York
BEGIN:DAYLIGHT
TZOFFSETFROM:-0500
TZOFFSETTO:-0400
TZNAME:EDT
DTSTART:20250309T070000
END:DAYLIGHT
BEGIN:STANDARD
TZOFFSETFROM:-0400
TZOFFSETTO:-0500
TZNAME:EST
DTSTART:20251102T060000
END:STANDARD
BEGIN:DAYLIGHT
TZOFFSETFROM:-0500
TZOFFSETTO:-0400
TZNAME:EDT
DTSTART:20260308T070000
END:DAYLIGHT
BEGIN:STANDARD
TZOFFSETFROM:-0400
TZOFFSETTO:-0500
TZNAME:EST
DTSTART:20261101T060000
END:STANDARD
BEGIN:DAYLIGHT
TZOFFSETFROM:-0500
TZOFFSETTO:-0400
TZNAME:EDT
DTSTART:20270314T070000
END:DAYLIGHT
BEGIN:STANDARD
TZOFFSETFROM:-0400
TZOFFSETTO:-0500
TZNAME:EST
DTSTART:20271107T060000
END:STANDARD
END:VTIMEZONE
BEGIN:VEVENT
DTSTART;TZID=America/New_York:20260102T170000
DTEND;TZID=America/New_York:20260102T220000
DTSTAMP:20260419T101818
CREATED:20251223T075013Z
LAST-MODIFIED:20251223T075827Z
UID:2760-1767373200-1767391200@blessingsonyourday.com
SUMMARY:Brownwood Pub Christmas Pub Crawl
DESCRIPTION:🍻 Brownwood Pub Crawl – The Villages\, FL\nLocation: Brownwood Paddock Square \nGet ready for an unforgettable evening of fun\, friendship\, and festive spirit at the Brownwood Pub Crawl in the heart of The Villages\, Florida! This lively event brings together residents and guests for a social night out filled with great drinks\, great music\, and even better company. \nSet against the beautiful Western-themed backdrop of Brownwood Paddock Square\, the pub crawl invites participants to stroll from venue to venue\, enjoying a variety of beverages\, special drink offerings\, and the unique atmosphere each stop has to offer. Whether you’re a craft beer enthusiast\, a cocktail lover\, or simply in it for the social experience\, there’s something for everyone. \n🎶 What to Expect\n\nA guided or self-paced crawl through participating Brownwood bars and restaurants\nExclusive drink specials at each stop\nLive music and entertainment throughout the square\nA fun\, relaxed atmosphere perfect for meeting new people and reconnecting with friends\nFestive decorations and a vibrant evening crowd\n\n👥 Who Should Attend\nThis event is ideal for: \n\nCouples and groups of friends\nNew residents looking to meet people\nLongtime Villagers who love a good night out\nAnyone who enjoys socializing\, music\, and a lively town square experience\n\n🌴 The Brownwood Experience\nBrownwood Paddock Square is known for its charm\, open-air design\, and welcoming energy. With palm trees\, glowing lights\, and live entertainment\, it provides the perfect setting for a pub crawl that feels both exciting and laid-back. \n🍺 Drink Responsibly\nParticipants are encouraged to pace themselves\, stay hydrated\, and plan safe transportation. The goal is fun\, connection\, and community—not overindulgence. \n⭐ Why You’ll Love It\nThe Brownwood Pub Crawl is more than just drinks—it’s about laughter\, conversation\, and creating memories in one of The Villages’ most beloved gathering spots. Whether it’s your first pub crawl or your fiftieth\, this event promises an evening full of smiles and stories you’ll be talking about long after the last stop.
URL:https://blessingsonyourday.com/event/brownwood-pub-christmas-pub-crawl/
LOCATION:City Fire\, 2716 Brownwood Blvd\, The Villages\, FL\, 32163\, United States
ATTACH;FMTTYPE=image/jpeg:https://blessingsonyourday.com/wp-content/uploads/2025/12/ChatGPT-Image-Dec-23-2025-02_46_11-AM.jpg
END:VEVENT
END:VCALENDAR